BEGIN:VCALENDAR
VERSION:2.0
CALSCALE:GREGORIAN
PRODID:adamgibbons/ics
METHOD:PUBLISH
X-PUBLISHED-TTL:PT1H
BEGIN:VEVENT
UID:13246@do.basspistol.org
SUMMARY:Radio Blackout Fest 2026
DTSTAMP:20260424T204958Z
DTSTART:20260612T160000Z
DTEND:20260614T215900Z
URL:https://do.basspistol.org/event/blackout-fest-2026
GEO:45.07977735;7.69865312007299
LOCATION:Manituana - Laboratorio Culturale Autogestito - Largo Maurizio Vit
	ale 113\, Torino
STATUS:CONFIRMED
CATEGORIES:Benefit radio blackout,Radio Blackout
END:VEVENT
END:VCALENDAR
